BEGIN:VCALENDAR
VERSION:2.0
PRODID:-//Kirwagemeinschaft Ursensollen - ECPv6.15.17//NONSGML v1.0//EN
CALSCALE:GREGORIAN
METHOD:PUBLISH
X-ORIGINAL-URL:https://kirwagemeinschaft.de
X-WR-CALDESC:Veranstaltungen für Kirwagemeinschaft Ursensollen
REFRESH-INTERVAL;VALUE=DURATION:PT1H
X-Robots-Tag:noindex
X-PUBLISHED-TTL:PT1H
BEGIN:VTIMEZONE
TZID:UTC
BEGIN:STANDARD
TZOFFSETFROM:+0000
TZOFFSETTO:+0000
TZNAME:UTC
DTSTART:20250101T000000
END:STANDARD
END:VTIMEZONE
BEGIN:VEVENT
DTSTART;VALUE=DATE:20261002
DTEND;VALUE=DATE:20261003
DTSTAMP:20260421T202921
CREATED:20260111T095937Z
LAST-MODIFIED:20260111T100016Z
UID:640-1790899200-1790985599@kirwagemeinschaft.de
SUMMARY:Bauerntheater
DESCRIPTION:
URL:https://kirwagemeinschaft.de/event/bauerntheater-5-copy/
LOCATION:Kubus\, Schulgasse 1\, Ursensollen\, Deutschland
END:VEVENT
BEGIN:VEVENT
DTSTART;VALUE=DATE:20261003
DTEND;VALUE=DATE:20261004
DTSTAMP:20260421T202921
CREATED:20260111T100021Z
LAST-MODIFIED:20260111T100040Z
UID:642-1790985600-1791071999@kirwagemeinschaft.de
SUMMARY:Bauerntheater
DESCRIPTION:
URL:https://kirwagemeinschaft.de/event/bauerntheater-5-copy-copy/
LOCATION:Kubus\, Schulgasse 1\, Ursensollen\, Deutschland
END:VEVENT
BEGIN:VEVENT
DTSTART;VALUE=DATE:20261004
DTEND;VALUE=DATE:20261005
DTSTAMP:20260421T202921
CREATED:20260111T100045Z
LAST-MODIFIED:20260111T102555Z
UID:645-1791072000-1791158399@kirwagemeinschaft.de
SUMMARY:Bauerntheater
DESCRIPTION:
URL:https://kirwagemeinschaft.de/event/bauerntheater-5-copy-copy-2/
LOCATION:Kubus\, Schulgasse 1\, Ursensollen\, Deutschland
END:VEVENT
BEGIN:VEVENT
DTSTART;VALUE=DATE:20261009
DTEND;VALUE=DATE:20261010
DTSTAMP:20260421T202921
CREATED:20260111T100115Z
LAST-MODIFIED:20260111T100143Z
UID:647-1791504000-1791590399@kirwagemeinschaft.de
SUMMARY:Bauerntheater
DESCRIPTION:
URL:https://kirwagemeinschaft.de/event/bauerntheater-5-copy-copy-2-copy/
LOCATION:Kubus\, Schulgasse 1\, Ursensollen\, Deutschland
END:VEVENT
BEGIN:VEVENT
DTSTART;VALUE=DATE:20261010
DTEND;VALUE=DATE:20261011
DTSTAMP:20260421T202921
CREATED:20260111T100151Z
LAST-MODIFIED:20260111T100204Z
UID:649-1791590400-1791676799@kirwagemeinschaft.de
SUMMARY:Bauerntheater
DESCRIPTION:
URL:https://kirwagemeinschaft.de/event/bauerntheater-5-copy-copy-2-copy-copy/
LOCATION:Kubus\, Schulgasse 1\, Ursensollen\, Deutschland
END:VEVENT
END:VCALENDAR