BEGIN:VCALENDAR
VERSION:2.0
PRODID:-//Kirwagemeinschaft Ursensollen - ECPv6.15.17//NONSGML v1.0//EN
CALSCALE:GREGORIAN
METHOD:PUBLISH
X-ORIGINAL-URL:https://kirwagemeinschaft.de
X-WR-CALDESC:Veranstaltungen für Kirwagemeinschaft Ursensollen
REFRESH-INTERVAL;VALUE=DURATION:PT1H
X-Robots-Tag:noindex
X-PUBLISHED-TTL:PT1H
BEGIN:VTIMEZONE
TZID:UTC
BEGIN:STANDARD
TZOFFSETFROM:+0000
TZOFFSETTO:+0000
TZNAME:UTC
DTSTART:20220101T000000
END:STANDARD
END:VTIMEZONE
BEGIN:VEVENT
DTSTART;VALUE=DATE:20231002
DTEND;VALUE=DATE:20231003
DTSTAMP:20260423T211010
CREATED:20230128T102000Z
LAST-MODIFIED:20230905T172926Z
UID:472-1696204800-1696291199@kirwagemeinschaft.de
SUMMARY:25 Jahre Kirwagemeinschaft Ursensollen
DESCRIPTION:Anmeldung für Vereinsmitglieder per Email über: kwg-ursensollen@gmx.de
URL:https://kirwagemeinschaft.de/event/25-jahre-kirwagemeinschaft-ursensollen/
LOCATION:Kubus\, Schulgasse 1\, Ursensollen\, Deutschland
END:VEVENT
END:VCALENDAR