BEGIN:VCALENDAR
VERSION:2.0
PRODID:-//Kirwagemeinschaft Ursensollen - ECPv6.15.17//NONSGML v1.0//EN
CALSCALE:GREGORIAN
METHOD:PUBLISH
X-WR-CALNAME:Kirwagemeinschaft Ursensollen
X-ORIGINAL-URL:https://kirwagemeinschaft.de
X-WR-CALDESC:Veranstaltungen für Kirwagemeinschaft Ursensollen
REFRESH-INTERVAL;VALUE=DURATION:PT1H
X-Robots-Tag:noindex
X-PUBLISHED-TTL:PT1H
BEGIN:VTIMEZONE
TZID:UTC
BEGIN:STANDARD
TZOFFSETFROM:+0000
TZOFFSETTO:+0000
TZNAME:UTC
DTSTART:20250101T000000
END:STANDARD
END:VTIMEZONE
BEGIN:VEVENT
DTSTART;TZID=UTC:20260301T150000
DTEND;TZID=UTC:20260301T230000
DTSTAMP:20260421T183455
CREATED:20260111T095724Z
LAST-MODIFIED:20260111T095810Z
UID:638-1772377200-1772406000@kirwagemeinschaft.de
SUMMARY:Bockbierwanderung
DESCRIPTION:
URL:https://kirwagemeinschaft.de/event/bockbierwanderung-copy/
LOCATION:Gashaus Michl\, Oberleinsiedl
END:VEVENT
END:VCALENDAR